BEGIN:VCALENDAR
VERSION:2.0
PRODID:-//Emile Montessorischule - ECPv6.15.14//NONSGML v1.0//EN
CALSCALE:GREGORIAN
METHOD:PUBLISH
X-WR-CALNAME:Emile Montessorischule
X-ORIGINAL-URL:https://www.emile-montessori.de
X-WR-CALDESC:Veranstaltungen für Emile Montessorischule
REFRESH-INTERVAL;VALUE=DURATION:PT1H
X-Robots-Tag:noindex
X-PUBLISHED-TTL:PT1H
BEGIN:VTIMEZONE
TZID:Europe/Berlin
BEGIN:DAYLIGHT
TZOFFSETFROM:+0100
TZOFFSETTO:+0200
TZNAME:CEST
DTSTART:20230326T010000
END:DAYLIGHT
BEGIN:STANDARD
TZOFFSETFROM:+0200
TZOFFSETTO:+0100
TZNAME:CET
DTSTART:20231029T010000
END:STANDARD
BEGIN:DAYLIGHT
TZOFFSETFROM:+0100
TZOFFSETTO:+0200
TZNAME:CEST
DTSTART:20240331T010000
END:DAYLIGHT
BEGIN:STANDARD
TZOFFSETFROM:+0200
TZOFFSETTO:+0100
TZNAME:CET
DTSTART:20241027T010000
END:STANDARD
BEGIN:DAYLIGHT
TZOFFSETFROM:+0100
TZOFFSETTO:+0200
TZNAME:CEST
DTSTART:20250330T010000
END:DAYLIGHT
BEGIN:STANDARD
TZOFFSETFROM:+0200
TZOFFSETTO:+0100
TZNAME:CET
DTSTART:20251026T010000
END:STANDARD
END:VTIMEZONE
BEGIN:VEVENT
DTSTART;TZID=Europe/Berlin:20240315T173000
DTEND;TZID=Europe/Berlin:20240315T203000
DTSTAMP:20260422T125839
CREATED:20240117T084745Z
LAST-MODIFIED:20240206T103118Z
UID:11405-1710523800-1710534600@www.emile-montessori.de
SUMMARY:EmiLe-Frühjahrsbasar
DESCRIPTION:
URL:https://www.emile-montessori.de/event/emile-fruehjahrsbasar/
LOCATION:EmiLe-Montessorischule\, Arastraße 2\, Neubiberg\, Bayern\, 85579\, Deutschland
CATEGORIES:Emile-Basar
ATTACH;FMTTYPE=image/jpeg:https://www.emile-montessori.de/wp-content/uploads/Basar_24.jpg
GEO:48.0722642;11.6667881
X-APPLE-STRUCTURED-LOCATION;VALUE=URI;X-ADDRESS=EmiLe-Montessorischule Arastraße 2 Neubiberg Bayern 85579 Deutschland;X-APPLE-RADIUS=500;X-TITLE=Arastraße 2:geo:11.6667881,48.0722642
END:VEVENT
BEGIN:VEVENT
DTSTART;TZID=Europe/Berlin:20240222T180000
DTEND;TZID=Europe/Berlin:20240222T203000
DTSTAMP:20260422T125839
CREATED:20240131T091922Z
LAST-MODIFIED:20240131T092629Z
UID:11477-1708624800-1708633800@www.emile-montessori.de
SUMMARY:Musical "Schach 2.0"
DESCRIPTION:
URL:https://www.emile-montessori.de/event/musical-schach-2-0/
LOCATION:EmiLe-Montessorischule\, Arastraße 2\, Neubiberg\, Bayern\, 85579\, Deutschland
CATEGORIES:Kultur und Musik
GEO:48.0722642;11.6667881
X-APPLE-STRUCTURED-LOCATION;VALUE=URI;X-ADDRESS=EmiLe-Montessorischule Arastraße 2 Neubiberg Bayern 85579 Deutschland;X-APPLE-RADIUS=500;X-TITLE=Arastraße 2:geo:11.6667881,48.0722642
END:VEVENT
END:VCALENDAR