BEGIN:VCALENDAR
VERSION:2.0
PRODID:-//Emile Montessorischule - ECPv6.15.14//NONSGML v1.0//EN
CALSCALE:GREGORIAN
METHOD:PUBLISH
X-ORIGINAL-URL:https://www.emile-montessori.de
X-WR-CALDESC:Veranstaltungen für Emile Montessorischule
REFRESH-INTERVAL;VALUE=DURATION:PT1H
X-Robots-Tag:noindex
X-PUBLISHED-TTL:PT1H
BEGIN:VTIMEZONE
TZID:Europe/Berlin
BEGIN:DAYLIGHT
TZOFFSETFROM:+0100
TZOFFSETTO:+0200
TZNAME:CEST
DTSTART:20230326T010000
END:DAYLIGHT
BEGIN:STANDARD
TZOFFSETFROM:+0200
TZOFFSETTO:+0100
TZNAME:CET
DTSTART:20231029T010000
END:STANDARD
BEGIN:DAYLIGHT
TZOFFSETFROM:+0100
TZOFFSETTO:+0200
TZNAME:CEST
DTSTART:20240331T010000
END:DAYLIGHT
BEGIN:STANDARD
TZOFFSETFROM:+0200
TZOFFSETTO:+0100
TZNAME:CET
DTSTART:20241027T010000
END:STANDARD
BEGIN:DAYLIGHT
TZOFFSETFROM:+0100
TZOFFSETTO:+0200
TZNAME:CEST
DTSTART:20250330T010000
END:DAYLIGHT
BEGIN:STANDARD
TZOFFSETFROM:+0200
TZOFFSETTO:+0100
TZNAME:CET
DTSTART:20251026T010000
END:STANDARD
BEGIN:DAYLIGHT
TZOFFSETFROM:+0100
TZOFFSETTO:+0200
TZNAME:CEST
DTSTART:20260329T010000
END:DAYLIGHT
BEGIN:STANDARD
TZOFFSETFROM:+0200
TZOFFSETTO:+0100
TZNAME:CET
DTSTART:20261025T010000
END:STANDARD
END:VTIMEZONE
BEGIN:VEVENT
DTSTART;TZID=Europe/Berlin:20251103T090000
DTEND;TZID=Europe/Berlin:20251105T153000
DTSTAMP:20260422T123449
CREATED:20251016T103152Z
LAST-MODIFIED:20251022T071051Z
UID:13401-1762160400-1762356600@www.emile-montessori.de
SUMMARY:"Activity Camp" Herbstferienprogramm
DESCRIPTION:  \n\nFür weitere Informationen und Anmeldeformular klicken Sie bitte hier
URL:https://www.emile-montessori.de/event/herbstferienprogramm/
LOCATION:EmiLe-Montessorischule\, Arastraße 2\, Neubiberg\, Bayern\, 85579\, Deutschland
CATEGORIES:Aktuelle Ferienbetreuung
GEO:48.0722642;11.6667881
X-APPLE-STRUCTURED-LOCATION;VALUE=URI;X-ADDRESS=EmiLe-Montessorischule Arastraße 2 Neubiberg Bayern 85579 Deutschland;X-APPLE-RADIUS=500;X-TITLE=Arastraße 2:geo:11.6667881,48.0722642
END:VEVENT
BEGIN:VEVENT
DTSTART;TZID=Europe/Berlin:20251025T090000
DTEND;TZID=Europe/Berlin:20251025T120000
DTSTAMP:20260422T123449
CREATED:20250130T113916Z
LAST-MODIFIED:20250930T071452Z
UID:12811-1761382800-1761393600@www.emile-montessori.de
SUMMARY:EmiLe-Herbstbasar "Kids & Teens"
DESCRIPTION:Alle Informationen zu unserem Basar für Verkäufer_innen & Käufer_innen finden Sie hier.
URL:https://www.emile-montessori.de/event/emile-fruehjahrsbasar-kids-teens-2/
LOCATION:EmiLe-Montessorischule\, Arastraße 2\, Neubiberg\, Bayern\, 85579\, Deutschland
CATEGORIES:Emile-Basar
ATTACH;FMTTYPE=image/jpeg:https://www.emile-montessori.de/wp-content/uploads/EMILE_Kinderbasar_A4_2025-10-1-1.jpg
GEO:48.0722642;11.6667881
X-APPLE-STRUCTURED-LOCATION;VALUE=URI;X-ADDRESS=EmiLe-Montessorischule Arastraße 2 Neubiberg Bayern 85579 Deutschland;X-APPLE-RADIUS=500;X-TITLE=Arastraße 2:geo:11.6667881,48.0722642
END:VEVENT
BEGIN:VEVENT
DTSTART;TZID=Europe/Berlin:20250908T090000
DTEND;TZID=Europe/Berlin:20250912T153000
DTSTAMP:20260422T123449
CREATED:20250630T092920Z
LAST-MODIFIED:20250630T092951Z
UID:13148-1757322000-1757691000@www.emile-montessori.de
SUMMARY:Ferienprogramm "Activity Camp" - 6. Ferienwoche
DESCRIPTION:Für weitere Informationen und Anmeldung bitte hier klicken
URL:https://www.emile-montessori.de/event/13148/
LOCATION:EmiLe-Montessorischule\, Arastraße 2\, Neubiberg\, Bayern\, 85579\, Deutschland
CATEGORIES:Aktuelle Ferienbetreuung
GEO:48.0722642;11.6667881
X-APPLE-STRUCTURED-LOCATION;VALUE=URI;X-ADDRESS=EmiLe-Montessorischule Arastraße 2 Neubiberg Bayern 85579 Deutschland;X-APPLE-RADIUS=500;X-TITLE=Arastraße 2:geo:11.6667881,48.0722642
END:VEVENT
BEGIN:VEVENT
DTSTART;TZID=Europe/Berlin:20250811T090000
DTEND;TZID=Europe/Berlin:20250814T153000
DTSTAMP:20260422T123449
CREATED:20250324T082001Z
LAST-MODIFIED:20250630T093007Z
UID:12972-1754902800-1755185400@www.emile-montessori.de
SUMMARY:Ferienprogramm "Activity Camp" - 2. Ferienwoche
DESCRIPTION:Für weitere Informationen und Anmeldung bitte hier klicken
URL:https://www.emile-montessori.de/event/ferienprogramm-activity-camp/
LOCATION:EmiLe-Montessorischule\, Arastraße 2\, Neubiberg\, Bayern\, 85579\, Deutschland
CATEGORIES:Aktuelle Ferienbetreuung,Schulferien
GEO:48.0722642;11.6667881
X-APPLE-STRUCTURED-LOCATION;VALUE=URI;X-ADDRESS=EmiLe-Montessorischule Arastraße 2 Neubiberg Bayern 85579 Deutschland;X-APPLE-RADIUS=500;X-TITLE=Arastraße 2:geo:11.6667881,48.0722642
END:VEVENT
BEGIN:VEVENT
DTSTART;TZID=Europe/Berlin:20250804T090000
DTEND;TZID=Europe/Berlin:20250808T153000
DTSTAMP:20260422T123449
CREATED:20250630T093302Z
LAST-MODIFIED:20250630T093335Z
UID:13152-1754298000-1754667000@www.emile-montessori.de
SUMMARY:Ferienprogramm "Zirkus EmiLe" - 1. Ferienwoche
DESCRIPTION:Für weitere Informationen und Anmeldung bitte hier klicken
URL:https://www.emile-montessori.de/event/ferienprogramm-zirkus-emile-1-ferienwoche/
LOCATION:EmiLe-Montessorischule\, Arastraße 2\, Neubiberg\, Bayern\, 85579\, Deutschland
CATEGORIES:Aktuelle Ferienbetreuung
GEO:48.0722642;11.6667881
X-APPLE-STRUCTURED-LOCATION;VALUE=URI;X-ADDRESS=EmiLe-Montessorischule Arastraße 2 Neubiberg Bayern 85579 Deutschland;X-APPLE-RADIUS=500;X-TITLE=Arastraße 2:geo:11.6667881,48.0722642
END:VEVENT
BEGIN:VEVENT
DTSTART;TZID=Europe/Berlin:20250725T150000
DTEND;TZID=Europe/Berlin:20250725T200000
DTSTAMP:20260422T123449
CREATED:20250707T071014Z
LAST-MODIFIED:20250707T071014Z
UID:13166-1753455600-1753473600@www.emile-montessori.de
SUMMARY:Sommerfest - 20 Jahre EmiLe
DESCRIPTION:20 Jahre EmiLe – Viele Gründe zum Feiern und Danke sagen! \nZwanzig bewegte und spannende Jahre liegen hinter uns. Bewährtes entwickelt sich weiter – Neues entsteht. Wir laden Sie / Euch ganz herzlich ein\, gemeinsam mit uns zurückzublicken\, den Augenblick zu genießen und nach vorne zu schauen auf unserem diesjährigen EmiLe-Sommerfest am 25. Juli 2025!
URL:https://www.emile-montessori.de/event/sommerfest-20-jahre-emile/
LOCATION:EmiLe-Montessorischule\, Arastraße 2\, Neubiberg\, Bayern\, 85579\, Deutschland
CATEGORIES:Kultur und Musik
ATTACH;FMTTYPE=image/jpeg:https://www.emile-montessori.de/wp-content/uploads/25-07-Sommerfest.jpg
GEO:48.0722642;11.6667881
X-APPLE-STRUCTURED-LOCATION;VALUE=URI;X-ADDRESS=EmiLe-Montessorischule Arastraße 2 Neubiberg Bayern 85579 Deutschland;X-APPLE-RADIUS=500;X-TITLE=Arastraße 2:geo:11.6667881,48.0722642
END:VEVENT
BEGIN:VEVENT
DTSTART;TZID=Europe/Berlin:20250508T190000
DTEND;TZID=Europe/Berlin:20250508T210000
DTSTAMP:20260422T123449
CREATED:20250508T081739Z
LAST-MODIFIED:20250508T081739Z
UID:13030-1746730800-1746738000@www.emile-montessori.de
SUMMARY:EmiLe-Akademie "THE CHAOS ENGINE"
DESCRIPTION:Bitte melden Sie sich über unser Formular an.
URL:https://www.emile-montessori.de/event/emile-akademie-the-chaos-engine/
LOCATION:EmiLe-Montessorischule\, Arastraße 2\, Neubiberg\, Bayern\, 85579\, Deutschland
CATEGORIES:Emileakademie
ATTACH;FMTTYPE=application/pdf:https://www.emile-montessori.de/wp-content/uploads/25_05_EMILE_Akademie_Vortrag_A4.pdf
GEO:48.0722642;11.6667881
X-APPLE-STRUCTURED-LOCATION;VALUE=URI;X-ADDRESS=EmiLe-Montessorischule Arastraße 2 Neubiberg Bayern 85579 Deutschland;X-APPLE-RADIUS=500;X-TITLE=Arastraße 2:geo:11.6667881,48.0722642
END:VEVENT
BEGIN:VEVENT
DTSTART;TZID=Europe/Berlin:20250505T190000
DTEND;TZID=Europe/Berlin:20250505T210000
DTSTAMP:20260422T123449
CREATED:20250310T094934Z
LAST-MODIFIED:20250310T095359Z
UID:12912-1746471600-1746478800@www.emile-montessori.de
SUMMARY:Infoabend VorschulKiTa in der EmiLe
DESCRIPTION:Kommen Sie zu unserem Infoabend für unsere neue VorschulKiTa! Erfahren Sie alles Wissenswerte zum pädagogischen Konzept\, der Gruppenstruktur\, dem Team und vieles mehr! Wir freuen uns auf Sie! Bitte melden Sie sich zur leichteren Planung unter folgendem Link an: https://forms.office.com/e/AhJ72Lyqsu?origin=lprLink
URL:https://www.emile-montessori.de/event/infoabend-vorschulkita/
LOCATION:EmiLe-Montessorischule\, Arastraße 2\, Neubiberg\, Bayern\, 85579\, Deutschland
CATEGORIES:Infoabende & Tag der offenen Tür
ATTACH;FMTTYPE=application/pdf:https://www.emile-montessori.de/wp-content/uploads/25-05-EMILE_A4_Plakat_Info-Abend_KiTa-1.pdf
GEO:48.0722642;11.6667881
X-APPLE-STRUCTURED-LOCATION;VALUE=URI;X-ADDRESS=EmiLe-Montessorischule Arastraße 2 Neubiberg Bayern 85579 Deutschland;X-APPLE-RADIUS=500;X-TITLE=Arastraße 2:geo:11.6667881,48.0722642
END:VEVENT
BEGIN:VEVENT
DTSTART;TZID=Europe/Berlin:20250414T090000
DTEND;TZID=Europe/Berlin:20250417T153000
DTSTAMP:20260422T123449
CREATED:20250324T081456Z
LAST-MODIFIED:20250327T092452Z
UID:12966-1744621200-1744903800@www.emile-montessori.de
SUMMARY:Ferienprogramm "Zirkus EmiLe"
DESCRIPTION:Für weitere Informationen und Anmeldung bitte hier klicken
URL:https://www.emile-montessori.de/event/ferienprogramm-zirkus-emile/
LOCATION:EmiLe-Montessorischule\, Arastraße 2\, Neubiberg\, Bayern\, 85579\, Deutschland
CATEGORIES:Aktuelle Ferienbetreuung,Schulferien
GEO:48.0722642;11.6667881
X-APPLE-STRUCTURED-LOCATION;VALUE=URI;X-ADDRESS=EmiLe-Montessorischule Arastraße 2 Neubiberg Bayern 85579 Deutschland;X-APPLE-RADIUS=500;X-TITLE=Arastraße 2:geo:11.6667881,48.0722642
END:VEVENT
BEGIN:VEVENT
DTSTART;TZID=Europe/Berlin:20250303T090000
DTEND;TZID=Europe/Berlin:20250307T153000
DTSTAMP:20260422T123449
CREATED:20250205T083720Z
LAST-MODIFIED:20250205T083857Z
UID:12829-1740992400-1741361400@www.emile-montessori.de
SUMMARY:Ferienprogramm "Faschingsferien"
DESCRIPTION:Für weitere Informationen und Anmeldung bitte hier klicken.
URL:https://www.emile-montessori.de/event/ferienprogramm-faschingsferien/
LOCATION:EmiLe-Montessorischule\, Arastraße 2\, Neubiberg\, Bayern\, 85579\, Deutschland
CATEGORIES:Aktuelle Ferienbetreuung,Schulferien
ATTACH;FMTTYPE=application/pdf:https://www.emile-montessori.de/wp-content/uploads/EMILE_A4-Ferienbetreuung_2025_Fasching_01.pdf
GEO:48.0722642;11.6667881
X-APPLE-STRUCTURED-LOCATION;VALUE=URI;X-ADDRESS=EmiLe-Montessorischule Arastraße 2 Neubiberg Bayern 85579 Deutschland;X-APPLE-RADIUS=500;X-TITLE=Arastraße 2:geo:11.6667881,48.0722642
END:VEVENT
BEGIN:VEVENT
DTSTART;TZID=Europe/Berlin:20250130T190000
DTEND;TZID=Europe/Berlin:20250130T210000
DTSTAMP:20260422T123449
CREATED:20241125T111124Z
LAST-MODIFIED:20241125T111124Z
UID:12645-1738263600-1738270800@www.emile-montessori.de
SUMMARY:Infoabend VorschulKiTa in der EmiLe
DESCRIPTION:Hier klicken für weitere Informationen und Anmeldung zum VorschulKiTa-Infoabend in der EmiLe.
URL:https://www.emile-montessori.de/event/infoabend-vorschulkita-in-der-emile/
LOCATION:EmiLe-Montessorischule\, Arastraße 2\, Neubiberg\, Bayern\, 85579\, Deutschland
CATEGORIES:Infoabende & Tag der offenen Tür
ATTACH;FMTTYPE=application/pdf:https://www.emile-montessori.de/wp-content/uploads/EMILE_A4_Plakat_Info-Abend_KiTa.pdf
GEO:48.0722642;11.6667881
X-APPLE-STRUCTURED-LOCATION;VALUE=URI;X-ADDRESS=EmiLe-Montessorischule Arastraße 2 Neubiberg Bayern 85579 Deutschland;X-APPLE-RADIUS=500;X-TITLE=Arastraße 2:geo:11.6667881,48.0722642
END:VEVENT
BEGIN:VEVENT
DTSTART;TZID=Europe/Berlin:20250109T190000
DTEND;TZID=Europe/Berlin:20250109T210000
DTSTAMP:20260422T123449
CREATED:20241125T110608Z
LAST-MODIFIED:20241125T110842Z
UID:12639-1736449200-1736456400@www.emile-montessori.de
SUMMARY:Infoabend Digital - VorschulKiTa\, Grund- und weiterführende Schule
DESCRIPTION:Hier klicken für weitere Informationen und Anmeldung zum Infoabend.
URL:https://www.emile-montessori.de/event/infoabend-digital-gesamter-bildungsverbund/
LOCATION:EmiLe-Montessorischule\, Arastraße 2\, Neubiberg\, Bayern\, 85579\, Deutschland
CATEGORIES:Infoabende & Tag der offenen Tür
ATTACH;FMTTYPE=application/pdf:https://www.emile-montessori.de/wp-content/uploads/EMILE_A4_Info-Abend_digital_2025.pdf
GEO:48.0722642;11.6667881
X-APPLE-STRUCTURED-LOCATION;VALUE=URI;X-ADDRESS=EmiLe-Montessorischule Arastraße 2 Neubiberg Bayern 85579 Deutschland;X-APPLE-RADIUS=500;X-TITLE=Arastraße 2:geo:11.6667881,48.0722642
END:VEVENT
BEGIN:VEVENT
DTSTART;TZID=Europe/Berlin:20241213T110000
DTEND;TZID=Europe/Berlin:20241213T130000
DTSTAMP:20260422T123449
CREATED:20241205T095316Z
LAST-MODIFIED:20241212T105058Z
UID:12718-1734087600-1734094800@www.emile-montessori.de
SUMMARY:EmiLe-Weihnachtsbasar
DESCRIPTION:
URL:https://www.emile-montessori.de/event/weihnachtsbasar/
LOCATION:EmiLe-Montessorischule\, Arastraße 2\, Neubiberg\, Bayern\, 85579\, Deutschland
CATEGORIES:Kunst
ATTACH;FMTTYPE=application/pdf:https://www.emile-montessori.de/wp-content/uploads/EMILE_A4_Weihnachtsbasar_2024-2.pdf
GEO:48.0722642;11.6667881
X-APPLE-STRUCTURED-LOCATION;VALUE=URI;X-ADDRESS=EmiLe-Montessorischule Arastraße 2 Neubiberg Bayern 85579 Deutschland;X-APPLE-RADIUS=500;X-TITLE=Arastraße 2:geo:11.6667881,48.0722642
END:VEVENT
BEGIN:VEVENT
DTSTART;TZID=Europe/Berlin:20241205T190000
DTEND;TZID=Europe/Berlin:20241205T210000
DTSTAMP:20260422T123449
CREATED:20241125T105758Z
LAST-MODIFIED:20241125T110007Z
UID:12634-1733425200-1733432400@www.emile-montessori.de
SUMMARY:Infoabend Grundschule in der EmiLe
DESCRIPTION:Hier klicken für weitere Informationen und Anmeldung zum Infoabend.
URL:https://www.emile-montessori.de/event/infoabend-grundschule-in-der-emile/
LOCATION:EmiLe-Montessorischule\, Arastraße 2\, Neubiberg\, Bayern\, 85579\, Deutschland
CATEGORIES:Infoabende & Tag der offenen Tür
ATTACH;FMTTYPE=application/pdf:https://www.emile-montessori.de/wp-content/uploads/EMILE_A4-Plakat_Info-Abend_GS_2024.pdf
GEO:48.0722642;11.6667881
X-APPLE-STRUCTURED-LOCATION;VALUE=URI;X-ADDRESS=EmiLe-Montessorischule Arastraße 2 Neubiberg Bayern 85579 Deutschland;X-APPLE-RADIUS=500;X-TITLE=Arastraße 2:geo:11.6667881,48.0722642
END:VEVENT
BEGIN:VEVENT
DTSTART;TZID=Europe/Berlin:20241129T150000
DTEND;TZID=Europe/Berlin:20241129T190000
DTSTAMP:20260422T123449
CREATED:20240924T062340Z
LAST-MODIFIED:20241107T092208Z
UID:12224-1732892400-1732906800@www.emile-montessori.de
SUMMARY:Kennenlerntag für interessierte Eltern
DESCRIPTION:15:00 – 19:00 Uhr – Für weitere Informationen und Anmeldungen klicken Sie bitte hier.\n 
URL:https://www.emile-montessori.de/event/kennenlerntag-fuer-interessierte-eltern/
LOCATION:EmiLe-Montessorischule\, Arastraße 2\, Neubiberg\, Bayern\, 85579\, Deutschland
CATEGORIES:Infoabende & Tag der offenen Tür
ATTACH;FMTTYPE=image/jpeg:https://www.emile-montessori.de/wp-content/uploads/24-11-29-Kennenlerntag.jpg
GEO:48.0722642;11.6667881
X-APPLE-STRUCTURED-LOCATION;VALUE=URI;X-ADDRESS=EmiLe-Montessorischule Arastraße 2 Neubiberg Bayern 85579 Deutschland;X-APPLE-RADIUS=500;X-TITLE=Arastraße 2:geo:11.6667881,48.0722642
END:VEVENT
BEGIN:VEVENT
DTSTART;TZID=Europe/Berlin:20241121T190000
DTEND;TZID=Europe/Berlin:20241121T210000
DTSTAMP:20260422T123449
CREATED:20241114T083610Z
LAST-MODIFIED:20241114T083610Z
UID:12486-1732215600-1732222800@www.emile-montessori.de
SUMMARY:EmiLe-Akademie "Rund ums Lernen"
DESCRIPTION:  \nBitte melden Sie sich über unser Formular an.
URL:https://www.emile-montessori.de/event/emile-akademie-rund-ums-lernen/
LOCATION:EmiLe-Montessorischule\, Arastraße 2\, Neubiberg\, Bayern\, 85579\, Deutschland
CATEGORIES:Emileakademie
ATTACH;FMTTYPE=image/jpeg:https://www.emile-montessori.de/wp-content/uploads/24_11-EmiLe-Akademie.jpg
GEO:48.0722642;11.6667881
X-APPLE-STRUCTURED-LOCATION;VALUE=URI;X-ADDRESS=EmiLe-Montessorischule Arastraße 2 Neubiberg Bayern 85579 Deutschland;X-APPLE-RADIUS=500;X-TITLE=Arastraße 2:geo:11.6667881,48.0722642
END:VEVENT
BEGIN:VEVENT
DTSTART;TZID=Europe/Berlin:20241120T083000
DTEND;TZID=Europe/Berlin:20241120T153000
DTSTAMP:20260422T123449
CREATED:20241114T104538Z
LAST-MODIFIED:20241114T105211Z
UID:12488-1732091400-1732116600@www.emile-montessori.de
SUMMARY:Buß- und Bettag - Betreuungsprogramm
DESCRIPTION:Bitte melden Sie sich über unser Anmeldeformular an und senden dieses direkt an: ferien@emile-montessori.de
URL:https://www.emile-montessori.de/event/buss-und-bettag-betreuungsprogramm/
LOCATION:EmiLe-Montessorischule\, Arastraße 2\, Neubiberg\, Bayern\, 85579\, Deutschland
CATEGORIES:Aktuelle Ferienbetreuung
ATTACH;FMTTYPE=image/jpeg:https://www.emile-montessori.de/wp-content/uploads/24_11-Buss-und-Bettag-Plakat.jpg
GEO:48.0722642;11.6667881
X-APPLE-STRUCTURED-LOCATION;VALUE=URI;X-ADDRESS=EmiLe-Montessorischule Arastraße 2 Neubiberg Bayern 85579 Deutschland;X-APPLE-RADIUS=500;X-TITLE=Arastraße 2:geo:11.6667881,48.0722642
END:VEVENT
BEGIN:VEVENT
DTSTART;TZID=Europe/Berlin:20241028T090000
DTEND;TZID=Europe/Berlin:20241031T150000
DTSTAMP:20260422T123449
CREATED:20241021T070655Z
LAST-MODIFIED:20241021T070800Z
UID:12336-1730106000-1730386800@www.emile-montessori.de
SUMMARY:Herbst-Ferienprogramm "Zirkus EmiLe"
DESCRIPTION:Weitere Informationen & Anmeldeformular (pdf) unter: https://www.emile-montessori.de/organisation-und-service/ferienbetreuung/
URL:https://www.emile-montessori.de/event/herbst-ferienprogramm-zirkus-emile/
LOCATION:EmiLe-Montessorischule\, Arastraße 2\, Neubiberg\, Bayern\, 85579\, Deutschland
CATEGORIES:Aktuelle Ferienbetreuung
ATTACH;FMTTYPE=image/jpeg:https://www.emile-montessori.de/wp-content/uploads/EMILE_A4-Ferienbetreuung_2024_Herbst_Zirkus.jpg
GEO:48.0722642;11.6667881
X-APPLE-STRUCTURED-LOCATION;VALUE=URI;X-ADDRESS=EmiLe-Montessorischule Arastraße 2 Neubiberg Bayern 85579 Deutschland;X-APPLE-RADIUS=500;X-TITLE=Arastraße 2:geo:11.6667881,48.0722642
END:VEVENT
BEGIN:VEVENT
DTSTART;TZID=Europe/Berlin:20240920T083000
DTEND;TZID=Europe/Berlin:20240920T123000
DTSTAMP:20260422T123449
CREATED:20240424T062558Z
LAST-MODIFIED:20240424T062558Z
UID:11807-1726821000-1726835400@www.emile-montessori.de
SUMMARY:World Clean Up Day
DESCRIPTION:Gemeinsam für eine saubere Welt – Unsere Schule macht mit! \nWorld Clean Up Day am 20. September! \nWeitere Informationen dazu finden Sie auf der Webseite von World Clean up: https://worldcleanupday.de/veranstaltungen/emile-montessori-clean-up-day-bayern/
URL:https://www.emile-montessori.de/event/world-clean-up-day/
LOCATION:EmiLe-Montessorischule\, Arastraße 2\, Neubiberg\, Bayern\, 85579\, Deutschland
CATEGORIES:Kultur und Musik
ATTACH;FMTTYPE=image/jpeg:https://www.emile-montessori.de/wp-content/uploads/2024_WCU_Schule_013.jpg
GEO:48.0722642;11.6667881
X-APPLE-STRUCTURED-LOCATION;VALUE=URI;X-ADDRESS=EmiLe-Montessorischule Arastraße 2 Neubiberg Bayern 85579 Deutschland;X-APPLE-RADIUS=500;X-TITLE=Arastraße 2:geo:11.6667881,48.0722642
END:VEVENT
BEGIN:VEVENT
DTSTART;TZID=Europe/Berlin:20240805T090000
DTEND;TZID=Europe/Berlin:20240809T153000
DTSTAMP:20260422T123449
CREATED:20240603T075106Z
LAST-MODIFIED:20240610T100921Z
UID:12017-1722848400-1723217400@www.emile-montessori.de
SUMMARY:Activity Camp - Ferienbetreuung (2. Ferienwoche)
DESCRIPTION:Weitere Informationen & Anmeldung \n 
URL:https://www.emile-montessori.de/event/activity-camp-ferienbetreuung/
LOCATION:EmiLe-Montessorischule\, Arastraße 2\, Neubiberg\, Bayern\, 85579\, Deutschland
CATEGORIES:Aktuelle Ferienbetreuung
ATTACH;FMTTYPE=image/jpeg:https://www.emile-montessori.de/wp-content/uploads/EMILE_A4-Ferienbetreuung_2024_Sommer_Activity_X-1.jpg
GEO:48.0722642;11.6667881
X-APPLE-STRUCTURED-LOCATION;VALUE=URI;X-ADDRESS=EmiLe-Montessorischule Arastraße 2 Neubiberg Bayern 85579 Deutschland;X-APPLE-RADIUS=500;X-TITLE=Arastraße 2:geo:11.6667881,48.0722642
END:VEVENT
BEGIN:VEVENT
DTSTART;TZID=Europe/Berlin:20240430T180000
DTEND;TZID=Europe/Berlin:20240430T200000
DTSTAMP:20260422T123449
CREATED:20240417T060628Z
LAST-MODIFIED:20240417T060628Z
UID:11766-1714500000-1714507200@www.emile-montessori.de
SUMMARY:EmiLe-Schulkonzert
DESCRIPTION:Herzliche Einladung zu unserem EmiLe-Schulkonzert. \nKommen Sie vorbei zu unserem musikalischen Abend am 30.04.24 ab 18 Uhr in der EmiLe-Kantine. \nDer Eintritt ist frei (Spenden für die musikalische Arbeit an der EmiLe sind willkommen) \nEine Anmeldung ist nicht erforderlich. \nDas Schulorchester freut sich auf ein großes Publikum.
URL:https://www.emile-montessori.de/event/emile-schulkonzert-2/
CATEGORIES:Kultur und Musik
ATTACH;FMTTYPE=application/pdf:https://www.emile-montessori.de/wp-content/uploads/EMILE_A4_Plakat_Schulkonzert_2024-04.pdf
END:VEVENT
BEGIN:VEVENT
DTSTART;TZID=Europe/Berlin:20240418T190000
DTEND;TZID=Europe/Berlin:20240418T210000
DTSTAMP:20260422T123449
CREATED:20240409T083624Z
LAST-MODIFIED:20240409T084740Z
UID:11732-1713466800-1713474000@www.emile-montessori.de
SUMMARY:EmiLe-Akademie "Mission Possible-Abenteuer Pubertät"
DESCRIPTION:Nähe – Selbstbestimmung – Respekt – Selbstbewusstsein – Kooperation – Grenzen – Leistungsbereitschaft – Freiräume – Halt geben – Identitätsfindung \nZu diesen und weiteren Themen gehen wir mit der Referentin Gisela Wagner in den Austausch. Sie ist Familientherapeutin und sehr erfahren in der Montessori-Pädagogik. \nWir freuen uns auf Ihre Teilnahme an diesem interaktiven Abend! \nEine Anmeldung ist nicht erforderlich.
URL:https://www.emile-montessori.de/event/emile-akademie-mission-possible-abenteuer-pubertaet/
LOCATION:EmiLe-Montessorischule\, Arastraße 2\, Neubiberg\, Bayern\, 85579\, Deutschland
CATEGORIES:Emileakademie
ATTACH;FMTTYPE=application/pdf:https://www.emile-montessori.de/wp-content/uploads/EMILE_Akademie_Vortrag_A4_2024-04-Mission-Pubertaet-1.pdf
GEO:48.0722642;11.6667881
X-APPLE-STRUCTURED-LOCATION;VALUE=URI;X-ADDRESS=EmiLe-Montessorischule Arastraße 2 Neubiberg Bayern 85579 Deutschland;X-APPLE-RADIUS=500;X-TITLE=Arastraße 2:geo:11.6667881,48.0722642
END:VEVENT
END:VCALENDAR