BEGIN:VCALENDAR
VERSION:2.0
PRODID:-//Emile Montessorischule - ECPv6.15.14//NONSGML v1.0//EN
CALSCALE:GREGORIAN
METHOD:PUBLISH
X-WR-CALNAME:Emile Montessorischule
X-ORIGINAL-URL:https://www.emile-montessori.de
X-WR-CALDESC:Veranstaltungen für Emile Montessorischule
REFRESH-INTERVAL;VALUE=DURATION:PT1H
X-Robots-Tag:noindex
X-PUBLISHED-TTL:PT1H
BEGIN:VTIMEZONE
TZID:Europe/Berlin
BEGIN:DAYLIGHT
TZOFFSETFROM:+0100
TZOFFSETTO:+0200
TZNAME:CEST
DTSTART:20250330T010000
END:DAYLIGHT
BEGIN:STANDARD
TZOFFSETFROM:+0200
TZOFFSETTO:+0100
TZNAME:CET
DTSTART:20251026T010000
END:STANDARD
BEGIN:DAYLIGHT
TZOFFSETFROM:+0100
TZOFFSETTO:+0200
TZNAME:CEST
DTSTART:20260329T010000
END:DAYLIGHT
BEGIN:STANDARD
TZOFFSETFROM:+0200
TZOFFSETTO:+0100
TZNAME:CET
DTSTART:20261025T010000
END:STANDARD
BEGIN:DAYLIGHT
TZOFFSETFROM:+0100
TZOFFSETTO:+0200
TZNAME:CEST
DTSTART:20270328T010000
END:DAYLIGHT
BEGIN:STANDARD
TZOFFSETFROM:+0200
TZOFFSETTO:+0100
TZNAME:CET
DTSTART:20271031T010000
END:STANDARD
END:VTIMEZONE
BEGIN:VEVENT
DTSTART;TZID=Europe/Berlin:20260521T190000
DTEND;TZID=Europe/Berlin:20260521T203000
DTSTAMP:20260420T091126
CREATED:20260317T090441Z
LAST-MODIFIED:20260317T090441Z
UID:13815-1779390000-1779395400@www.emile-montessori.de
SUMMARY:VorschulKiTa - Infoabend - Start September
DESCRIPTION:Erhalten Sie an diesem Abend alle Informationen zum pädagogischen Konzept\, dem Team\, dem Tagesablauf und schauen Sie sich die KiTa-Räumlichkeiten an. Wir freuen uns auf Ihre Anmeldung zum Infoabend. HIER
URL:https://www.emile-montessori.de/event/vorschulkita-infoabend-start-september/
LOCATION:EmiLe-Montessorischule\, Arastraße 2\, Neubiberg\, Bayern\, 85579\, Deutschland
CATEGORIES:Infoabende & Tag der offenen Tür
ATTACH;FMTTYPE=image/jpeg:https://www.emile-montessori.de/wp-content/uploads/26-05-KiTa.jpg
GEO:48.0722642;11.6667881
X-APPLE-STRUCTURED-LOCATION;VALUE=URI;X-ADDRESS=EmiLe-Montessorischule Arastraße 2 Neubiberg Bayern 85579 Deutschland;X-APPLE-RADIUS=500;X-TITLE=Arastraße 2:geo:11.6667881,48.0722642
END:VEVENT
END:VCALENDAR